BEGIN:VCALENDAR
VERSION:2.0
PRODID:-//Contratero//ES
CALSCALE:GREGORIAN
METHOD:PUBLISH
BEGIN:VEVENT
UID:CONTR 2020/15275@contratero.es
DTSTAMP:20260424T160910Z
DTSTART:20210120T235959
DTEND:20210121T005959
SUMMARY:Cierre: Servicio de asistencia técnica para la Infraestruc
DESCRIPTION:Servicio de asistencia técnica para la Infraestructura de Datos y Metadatos Estadísticos (e Dades) y desarrollo e implantación del gestor de contenidos para el portal corporativo del INSTITUTO DE ESTA...\\n\\nOrganismo: Instituto de Estadística de las Illes Balears\\n\\nVer en Contratero: https://contratero.es/contracts/CONTR 2020/15275
URL:https://contratero.es/contracts/CONTR 2020/15275
STATUS:CONFIRMED
BEGIN:VALARM
TRIGGER:-P1D
ACTION:DISPLAY
DESCRIPTION:Recordatorio: Servicio de asistencia técnica
END:VALARM
END:VEVENT
END:VCALENDAR